BEGIN:VCALENDAR
PRODID:-//Det Danske Spejderkorps//NONSGML Gruppeweb//EN
VERSION:2.0
CALSCALE:GREGORIAN
X-PUBLISHED-TTL:PT1H
X-WR-CALNAME:Leder
METHOD:PUBLISH
BEGIN:VEVENT
UID:gruppeweb.dk:1301:event:2166
DTSTAMP:20260422T191545Z
LAST-MODIFIED:20250806T184753Z
SUMMARY:Oprykningsmøde
DESCRIPTION:FOR ALLE SPEJDERE I BIRKEGRUPPEN\n\nHalvåret starter i dag op 
 igen for alle spejderne i gruppen. \n\nVi starter med at de ældste spejd
 ere i hver gren skal rykke op.\n\nDerefter er der løb i blandede patrulje
 r på tværs af grenene.\n\nTil sidst slutter vi af med skumfiduser og saf
 t\, så medbring gerne en kop  \ntil dette\n\n
URL:https://birkegruppen.dk/begivenhed/oprykningsmoede-4
DTSTART:20250817T110000Z
DTEND:20250817T130000Z
LOCATION:Birkegruppen\, Karpevænget 5\, 3460 Birkerød
END:VEVENT
BEGIN:VEVENT
UID:gruppeweb.dk:1301:event:2250
DTSTAMP:20260422T191545Z
LAST-MODIFIED:20250520T102307Z
SUMMARY:Bestyrelsesmøde
DESCRIPTION:Helle er ansvarlig for forplejning og adressen er Sjælsøvej 5
 6\n\n
URL:https://birkegruppen.dk/begivenhed/bestyrelsesmoede-25
DTSTART:20250527T170000Z
DTEND:20250527T190000Z
LOCATION:Birkegruppen\, Karpevænget 5\, 3460 Birkerød
END:VEVENT
BEGIN:VEVENT
UID:gruppeweb.dk:1301:event:2254
DTSTAMP:20260422T191545Z
LAST-MODIFIED:20260201T175604Z
SUMMARY:Grupperådsmøde
DESCRIPTION:Så er der indkaldelse til vores grupperådsmøde\n\n\n[1]\n\n\
 n[1] https://birkegruppen.dk/web/content/4772568?access_token=d3fca919-06e
 9-429c-81f7-952b5aa06ab8&amp\;unique=9e378163047622ff36c0ef6980dda64754894
 76f&amp\;download=true\n
URL:https://birkegruppen.dk/begivenhed/grupperaadsmoede-5
DTSTART:20260226T180000Z
DTEND:20260226T200000Z
LOCATION:Birkegruppen\, Karpevænget 5\, 3460 Birkerød
END:VEVENT
BEGIN:VEVENT
UID:gruppeweb.dk:1301:event:2255
DTSTAMP:20260422T191545Z
LAST-MODIFIED:20260211T122633Z
SUMMARY:Hyttedag
DESCRIPTION:Kom og vær med til at shine hytten og grunden op så der er kl
 art til endnu  \nen sommersæson.\n\nAktiviteterne kunne være:\n\nFikse s
 iddepladserne ved bålpladsen\, rense tagrender\, male lidt\, finde/bygge 
  \nbadebroen\, fylde 'voldgraven' omkring bålhytten med sten\, mmm.\n\nDe
 r vil også være tid til hygge\, småsnak\, let forplejning\, og en enkel
   \nfrokost.\n\n
URL:https://birkegruppen.dk/begivenhed/hyttedag-3
DTSTART:20250518T080000Z
DTEND:20250518T130000Z
LOCATION:Birkegruppen\, Karpevænget 5\, 3460 Birkerød
END:VEVENT
BEGIN:VEVENT
UID:gruppeweb.dk:1301:event:2391
DTSTAMP:20260422T191545Z
LAST-MODIFIED:20251211T122315Z
SUMMARY:Julehyggemøde 2025
DESCRIPTION:Birkegruppens traditionsrige julehyggemøde\, hvor hele gruppen
 \, spejdere\,  \nforældre\, søskende og andre interesserede familiemedle
 mmer mødes over  \nBirkerøds længste buffetbord og største luciaoptog.
 \nAlle skal medbringe mad (gerne rigeligt) svarene til det antal personer 
 man  \nkommer\, så der er mad på den fælles buffet til os alle sammen\,
  samt bestik  \nog service til eget brug. Det vil være muligt at købe so
 davandvand\, the og  \nkaffe til rimelige priser\, bankoplader og brikker 
 har vi til salg i baren.  \nBetaling med mobilepay\n\n \n\nAftenens progr
 am:\n\n * kl. 18.00 Velkomst efterfulgt at spisning\n   \n * kl. 19.00 Opt
 ræden (Bestyrelsen ”underholder”)\n   \n * kl. 19.20 Luciaoptog\n   \
 n * kl. 19.50 Kort pause\n   \n * kl. 20.00 Banko runde 1 (m. præmier fra
  butikkerne i Birkerød)\n   \n * kl. 20.20 Kort pause\n   \n * kl. 20.30 
 Banko runde 2 (igen inkl. Præmier)\n   \n * kl. 21.00 Oprydning\n   \n\n
URL:https://birkegruppen.dk/begivenhed/julehyggemoede-2025
DTSTART:20251211T170000Z
DTEND:20251211T203000Z
LOCATION:Toftevangskolen\, Teglporten 7\, 3460 Birkerød
END:VEVENT
BEGIN:VEVENT
UID:gruppeweb.dk:1301:event:2421
DTSTAMP:20260422T191545Z
LAST-MODIFIED:20251218T125006Z
SUMMARY:Bjørnebolleløb
DESCRIPTION:”Bjørnene var ved at vågne\, og var sultne efter den lange 
 vinters søvn.  \nÉn efter én listede de ud af deres huler\, på jagt ef
 ter den søde  \nhonning…”\n\n\n\nBjørnene er igen ved at vågne\, og
  skovbetjenten har derfor bedt alle  \nBirkegruppens spejdere (familie\, m
 ikro\, mini\, junior\, trop og klan) om hjælp  \ntil at indsamle honning 
 – inden bjørnene spiser så meget at de bliver  \ntykke og dovne.\n\n\n
 \n\nDette vil vi gøre i forbindelse med Birkegruppens halvårlige  \nopry
 kningsarrangement\, hvor de ældste fra hver gren rykker videre til en ny.
 \nDet hele kommer til at forgå udendørs\, så husk tøj efter vejret!\nK
 om glad – og med en god appetit!\n\n
URL:https://birkegruppen.dk/begivenhed/bjoernebolleloeb-4
DTSTART:20260111T090000Z
DTEND:20260111T110000Z
LOCATION:Naturskolen Rude Skov\, Biskop Svanes Vej 50\, 3460 Birkerød
END:VEVENT
BEGIN:VEVENT
UID:gruppeweb.dk:1301:event:2463
DTSTAMP:20260422T191545Z
LAST-MODIFIED:20260211T122155Z
SUMMARY:Hyttedag
DESCRIPTION:Så skal hytten og omgivelserne shine\n\nMere info senere\n\n
URL:https://birkegruppen.dk/begivenhed/hyttedag-4
DTSTART:20260510T080000Z
DTEND:20260510T130000Z
LOCATION:Birkegruppen\, Karpevænget 5\, 3460 Birkerød
END:VEVENT
BEGIN:VEVENT
UID:gruppeweb.dk:1301:event:2522
DTSTAMP:20260422T191545Z
LAST-MODIFIED:20260412T130131Z
SUMMARY:Oprykningsmøde
DESCRIPTION:Alle mødes til oprykning ved Birkehytten - det er Troppen der 
 står for  \nmødet\n\n
URL:https://birkegruppen.dk/begivenhed/oprykningsmoede-5
DTSTART:20260816T110000Z
DTEND:20260816T130000Z
LOCATION:Birkegruppen\, Karpevænget 5\, 3460 Birkerød
END:VEVENT
BEGIN:VEVENT
UID:gruppeweb.dk:1301:event:2523
DTSTAMP:20260422T191545Z
LAST-MODIFIED:20260127T142104Z
SUMMARY:Bjørnebolle løb i Rude skov
DESCRIPTION:\n
URL:https://birkegruppen.dk/begivenhed/bjoernebolle-loeb-i-rude-skov
DTSTART:20270110T090000Z
DTEND:20270110T110000Z
LOCATION:Birkegruppen\, Karpevænget 5\, 3460 Birkerød
END:VEVENT
BEGIN:VEVENT
UID:gruppeweb.dk:1301:event:2524
DTSTAMP:20260422T191545Z
LAST-MODIFIED:20260127T142108Z
SUMMARY:Julehyggemøde 2026
DESCRIPTION:\n
URL:https://birkegruppen.dk/begivenhed/julehyggemoede-2026
DTSTART:20261210T170000Z
DTEND:20261210T200000Z
LOCATION:Birkegruppen\, Karpevænget 5\, 3460 Birkerød
END:VEVENT
BEGIN:VEVENT
UID:gruppeweb.dk:1301:event:2539
DTSTAMP:20260422T191545Z
LAST-MODIFIED:20260319T145118Z
SUMMARY:Gå med gruppen
DESCRIPTION:Mere info kommer senere\n\n
URL:https://birkegruppen.dk/begivenhed/gaa-med-gruppen-1
DTSTART;VALUE=DATE:20260905
LOCATION:Birkegruppen\, Karpevænget 5\, 3460 Birkerød
END:VEVENT
BEGIN:VEVENT
UID:gruppeweb.dk:1301:event:2542
DTSTAMP:20260422T191545Z
LAST-MODIFIED:20260319T145120Z
SUMMARY:Grupperådsmøde
DESCRIPTION:\n
URL:https://birkegruppen.dk/begivenhed/grupperaadsmoede-6
DTSTART:20270225T183000Z
DTEND:20270225T203000Z
LOCATION:Birkegruppen\, Karpevænget 5\, 3460 Birkerød
END:VEVENT
BEGIN:VEVENT
UID:gruppeweb.dk:1301:event:2163
DTSTAMP:20260422T191545Z
LAST-MODIFIED:20250515T185418Z
SUMMARY:Ledermøde
DESCRIPTION:Vi har et ledermøde i vores kalender d.25/5 kl.10-11:30\, der 
 vil Biotope  \nmeget gerne holde en workshop med os om hvordan de kan inko
 rporere vores  \nspejderarbejde i Birkehytten 2\,0\nBiotope har lavet et l
 ille spørgeskema med 9 spørgsmål\, dem må i meget  \ngerne svare skrif
 tlige på\, send dem gerne til mig\, de skal være klar inden  \nvi holder
  møde\, i må svare på det hver for sig\, eller også gerne svare  \nsam
 men som gren. \nDer vil være frokost kl.11:30 efter møde\, og kl.12 gå
 r vi i gang med at  \ngive vores telte noget forårs kærlighed\, så de v
 irker perfekt til i skal  \npå sommerlejr\, vi slutter kl. 17 så vi kan 
 komme hjem og spise aftensmad.\n\n
URL:https://birkegruppen.dk/begivenhed/ledermoede-11
DTSTART:20250525T080000Z
DTEND:20250525T093000Z
LOCATION:Birkegruppen\, Karpevænget 5\, 3460 Birkerød
END:VEVENT
BEGIN:VEVENT
UID:gruppeweb.dk:1301:event:2164
DTSTAMP:20260422T191545Z
LAST-MODIFIED:20250105T155607Z
SUMMARY:Telt dag for alle leder
DESCRIPTION:Vi har mange telt og de skal have lidt kærlighed\, vi skal se 
 om alle  \nstænger og pløkker er der\, alt skal mærkes op\, alt skal ud
  og ses på\, vi  \nskal også se på de kasser vi har koge grej i \n\n
URL:https://birkegruppen.dk/begivenhed/telt-dag-alle-leder
DTSTART:20250525T100000Z
DTEND:20250525T150000Z
LOCATION:Birkegruppen\, Karpevænget 5\, 3460 Birkerød
END:VEVENT
BEGIN:VEVENT
UID:gruppeweb.dk:1301:event:2165
DTSTAMP:20260422T191545Z
LAST-MODIFIED:20250901T093954Z
SUMMARY:Gruppetur 2025 til Høbjerghus
DESCRIPTION: Kom med på weekendtur til Høbjerg Hus i Helsinge den 5.–7
 . september\,  \nhvor\n  vi forvandler Høbjerghus til Birkegruppens helt 
 eget tivoli!\n\nTuren byder på kreativitet\, sjov\, spejderfærdigheder\,
  teltovernatning\,  \nlejrbål og fællesskab for både spejdere og foræl
 dre.\n\nHer får du muligheden for en spejderoplevelse sammen med dit barn
  og et  \nindblik i\, hvad der giver dit barn et smil på læben efter en 
 tur. Alle er  \nvelkomne – spejdere\, forældre og søskende. Som foræl
 der er det en oplagt  \nmulighed for at opleve spejderlivet\, være ude i 
 naturen og møde de andre  \nforældre i gruppen.\n\nFind din indre spadsm
 ager frem og kom og vær med til en magisk weekend!\n\nVi glæder os til a
 t se jer alle sammen - både spejdere og forældre - til  \net brag af en 
 weekend på høbjerghus.\n\nHilsen Bestyrelsen og lederne i Birkegruppen 
 \n\nSe mere info i vedhæftede invitation\n\n
URL:https://birkegruppen.dk/begivenhed/gruppetur-2025-til-hoebjerghus
DTSTART:20250905T170000Z
DTEND:20250907T090000Z
LOCATION:Høbjerghus\, Høbjerg Hegn 5\, 3200 Helsinge
END:VEVENT
BEGIN:VEVENT
UID:gruppeweb.dk:1301:event:2244
DTSTAMP:20260422T191545Z
LAST-MODIFIED:20250315T221430Z
SUMMARY:Ledermøde
DESCRIPTION:\n
URL:https://birkegruppen.dk/begivenhed/ledermoede-12
DTSTART:20250817T130000Z
DTEND:20250817T153000Z
LOCATION:Birkegruppen\, Karpevænget 5\, 3460 Birkerød
END:VEVENT
BEGIN:VEVENT
UID:gruppeweb.dk:1301:event:2260
DTSTAMP:20260422T191545Z
LAST-MODIFIED:20250419T212047Z
SUMMARY:junior bruge stor trailer
DESCRIPTION:\n
URL:https://birkegruppen.dk/begivenhed/junior-bruge-stor-trailer
DTSTART;VALUE=DATE:20250425
DTEND;VALUE=DATE:20250428
LOCATION:
END:VEVENT
BEGIN:VEVENT
UID:gruppeweb.dk:1301:event:2261
DTSTAMP:20260422T191545Z
LAST-MODIFIED:20250420T213447Z
SUMMARY:Divisionen låner grund+hytte
DESCRIPTION:
URL:https://birkegruppen.dk/begivenhed/divisionen-laaner-grundhytte
DTSTART:20250503T080000Z
DTEND:20250503T130000Z
LOCATION:Birkegruppen\, Karpevænget 5\, 3460 Birkerød
END:VEVENT
BEGIN:VEVENT
UID:gruppeweb.dk:1301:event:2262
DTSTAMP:20260422T191545Z
LAST-MODIFIED:20250525T144141Z
SUMMARY:Gruppeledere møde - Divisionen
DESCRIPTION:Gruppelederne fra divisionen låner hytten eller bålhytten til
  et møde\n\n
URL:https://birkegruppen.dk/begivenhed/gruppeledere-moede-divisionen
DTSTART:20250603T173000Z
DTEND:20250603T193000Z
LOCATION:
END:VEVENT
BEGIN:VEVENT
UID:gruppeweb.dk:1301:event:2264
DTSTAMP:20260422T191545Z
LAST-MODIFIED:20250511T091210Z
SUMMARY:Peter S låner hytten
DESCRIPTION:\n
URL:https://birkegruppen.dk/begivenhed/peter-s-laaner-hytten
DTSTART:20250615T080000Z
DTEND:20250615T120000Z
LOCATION:
END:VEVENT
BEGIN:VEVENT
UID:gruppeweb.dk:1301:event:2271
DTSTAMP:20260422T191545Z
LAST-MODIFIED:20250615T095138Z
SUMMARY:Junior låner stor trailer
DESCRIPTION:\n
URL:https://birkegruppen.dk/begivenhed/junior-laaner-stor-trailer-0
DTSTART;VALUE=DATE:20250727
DTEND;VALUE=DATE:20250802
LOCATION:
END:VEVENT
BEGIN:VEVENT
UID:gruppeweb.dk:1301:event:2282
DTSTAMP:20260422T191545Z
LAST-MODIFIED:20251001T183433Z
SUMMARY:Ledermøde i Hytten
DESCRIPTION:Vi skal snakke SL2026 hvad gør vi skal finde en løsning på a
 t der mangler  \nen GL\n\ner der noget vi ønsker os til SL2026\, telte\, 
 spader\, vogne\, gryder m.m\n\nSamværspolitik og trykhedsvejledning\n\nhv
 ordan formidler vi problemer og svære opgaver i Birkegruppen\n\n
URL:https://birkegruppen.dk/begivenhed/ledermoede-i-hytten-1
DTSTART:20251029T174500Z
DTEND:20251029T200000Z
LOCATION:Birkegruppen\, Karpevænget 5\, 3460 Birkerød
END:VEVENT
BEGIN:VEVENT
UID:gruppeweb.dk:1301:event:2353
DTSTAMP:20260422T191545Z
LAST-MODIFIED:20250830T185022Z
SUMMARY:Saga låner hytten
DESCRIPTION:\n
URL:https://birkegruppen.dk/begivenhed/saga-laaner-hytten
DTSTART:20250920T100000Z
DTEND:20250920T140000Z
LOCATION:Birkegruppen\, Karpevænget 5\, 3460 Birkerød
END:VEVENT
BEGIN:VEVENT
UID:gruppeweb.dk:1301:event:2373
DTSTAMP:20260422T191545Z
LAST-MODIFIED:20250910T165019Z
SUMMARY:Sissel Langkilde låner hytten
DESCRIPTION:søndag den 28/9 til en børnefødselsdag. Om muligt fra kl. 13
 -16.\n\nBørnene er fra 2. klasse på Rude Skov Skole og så selvfølgelig
  en  \nhåndfuld forældre.\n\n
URL:https://birkegruppen.dk/begivenhed/sissel-langkilde-laaner-hytten
DTSTART:20250928T000000Z
DTEND:20250928T140000Z
LOCATION:Birkegruppen\, Karpevænget 5\, 3460 Birkerød
END:VEVENT
BEGIN:VEVENT
UID:gruppeweb.dk:1301:event:2387
DTSTAMP:20260422T191545Z
LAST-MODIFIED:20250923T123737Z
SUMMARY:KLAN DILLE - Trailer
DESCRIPTION:\n
URL:https://birkegruppen.dk/begivenhed/klan-dille-trailer
DTSTART;VALUE=DATE:20251003
DTEND;VALUE=DATE:20251006
LOCATION:
END:VEVENT
BEGIN:VEVENT
UID:gruppeweb.dk:1301:event:2388
DTSTAMP:20260422T191545Z
LAST-MODIFIED:20250927T152803Z
SUMMARY:Mads Grønborg låner hytten til fordrage
DESCRIPTION:Min\nkone og jeg har heste ikke langt fra hytten\, og vi er ved
  at arrangere et\nhesteteknisk foredrag for 15-20 personer torsdag 13/11 o
 m aftenen.\n\n\n
URL:https://birkegruppen.dk/begivenhed/mads-groenborg-laaner-hytten-til-for
 drage
DTSTART:20251113T170000Z
DTEND:20251113T200000Z
LOCATION:Birkegruppen\, Karpevænget 5\, 3460 Birkerød
END:VEVENT
BEGIN:VEVENT
UID:gruppeweb.dk:1301:event:2389
DTSTAMP:20260422T191545Z
LAST-MODIFIED:20251002T192043Z
SUMMARY:Sara Munk Hedegård låner hytten
DESCRIPTION:Hytten lånt til afholdelse af børnefødselsdag for en 2. klas
 se.\n\n
URL:https://birkegruppen.dk/begivenhed/sara-munk-hedegaard-laaner-hytten
DTSTART:20251101T110000Z
DTEND:20251101T160000Z
LOCATION:
END:VEVENT
BEGIN:VEVENT
UID:gruppeweb.dk:1301:event:2390
DTSTAMP:20260422T191545Z
LAST-MODIFIED:20251005T154549Z
SUMMARY:Plan Holmen låner den store trailer
DESCRIPTION:\n
URL:https://birkegruppen.dk/begivenhed/plan-holmen-laaner-den-store-trailer
 -0
DTSTART;VALUE=DATE:20251010
DTEND;VALUE=DATE:20251020
LOCATION:
END:VEVENT
BEGIN:VEVENT
UID:gruppeweb.dk:1301:event:2397
DTSTAMP:20260422T191545Z
LAST-MODIFIED:20260320T084128Z
SUMMARY:Spejdernes Lejr 2026
DESCRIPTION:Vær opmærksom på at dette er en eftertilmelding og prisen er
  steget. Det  \ner dog stadig muligt at tilmelde sig.\nKære spejdere og f
 orældre \n\n\nÅrets sommerlejr går til Hedeland - lidt uden for Roskil
 de\, sammen med  \n40.000 andre spejdere fra alle fem danske spejderkorps.
  Der er en masse sjove  \nog spændene aktiviteter for alle aldre. Lejrens
  tema er ”Alle ind i  \nFælleskabet” - Et tema\, som skaber rammerne 
 for arbejdet både før\, under  \nog efter lejren.\n\n\nPå lejren kommer
  der også internationale spejdere med\, så det er en oplagt  \nmulighed 
 for os\, til at møde nogle spejdere fra udlandet og finde ud af\,  \nhvor
 dan man er spejder andre steder i verden.\n\n\nLejren bliver opdelt i fire
  underlejre\, og vi skal bo sammen med alle de  \nandre spejdere fra Ruder
 sdal Kommune.\n\n\nGren/aldersgruppe\n\nPeriode\n\nPris\n\nMikro og mini (
 6-10 år)\n\nLørdag d. 18. juli til onsdag d. 22. juli\n\n1.690 kr.\n\n 
 \n\nJunior\, Trop og Klan (10+ år)\n\nLørdag d. 18. juli til søndag d. 
 26. juli\n\n2.600 kr.\n\n \n\n\nInden vi tager afsted på sommerlejren\, 
 holder vi et fælles sommerlejrmøde  \nfor hele gruppen. Der vil komme n
 ærmere information om dato og tider\, når  \nvi kommer tættere på.\n\n
 *\n*\n\n\nI kan alle allerede nu følge SL2026 på Instagram\, Facebook og
  Snapchat. For  \nmere information\, spørg en leder eller gå ind på www
 .spejderneslejr.dk [1]\n\n\nDet med småt:\n\n * 75% af deltagerprisen ref
 underes ved afmelding inden 1. marts\n * 50% af deltagerprisen refunderes 
 ved afmelding inden 1. maj\n * Ved afbud senere end 1. juli refunderes del
 tagerprisen ikke \n\nVi glæder os til at tage til Hedeland med jer!\n\nS
 pejderhilsen Lederne i Birkegruppen\n\n\n\n[1] http://www.spejderneslejr.d
 k\n
URL:https://birkegruppen.dk/begivenhed/spejdernes-lejr-2026
DTSTART:20260718T060000Z
DTEND:20260726T140000Z
LOCATION:Hedeland\, Flinterne 2\, 2640 Hedehusene
END:VEVENT
BEGIN:VEVENT
UID:gruppeweb.dk:1301:event:2420
DTSTAMP:20260422T191545Z
LAST-MODIFIED:20251123T155847Z
SUMMARY:Frydenborg gruppe låner hytten
DESCRIPTION:Bitten Folke Svejstrup\, mikroleder\, Frydenborg Gruppe låner 
 hytten\n\nVi vil rigtig gerne komme 24. januar ca kl. 10.30 og tager afste
 d søndag  \nmorgen/formiddag kl. 9.00. Vi bliver 6-7 mikrospejdere og 3 l
 edere.\n\n\n \n\n\n\n \n\n\n
URL:https://birkegruppen.dk/begivenhed/frydenborg-gruppe-laaner-hytten-0
DTSTART:20260124T080000Z
DTEND:20260125T090000Z
LOCATION:Birkegruppen\, Karpevænget 5\, 3460 Birkerød
END:VEVENT
BEGIN:VEVENT
UID:gruppeweb.dk:1301:event:2436
DTSTAMP:20260422T191545Z
LAST-MODIFIED:20251224T153812Z
SUMMARY:Leder Møde i Hytten
DESCRIPTION:Når der er ryddet op i skoven drager vi ud i hytten og spiser 
 pizza og  \nholder leder møde\n\nDagsorden:\n\nHvordan går det med leder
 en i de enkelte grene\n\nHvem vil være ansvarlig for at vi bliver tilmeld
  til SL2026 rafter\, mad og  \naktiviteter\n\nEr der noget nyt fra bestyre
 lsen og den Birkrhytten 2\,0\n\nledermøder i det nye år og møde om SL20
 26\n\n\n
URL:https://birkegruppen.dk/begivenhed/leder-moede-i-hytten
DTSTART:20260111T113000Z
DTEND:20260111T133000Z
LOCATION:Birkegruppen\, Karpevænget 5\, 3460 Birkerød
END:VEVENT
BEGIN:VEVENT
UID:gruppeweb.dk:1301:event:2525
DTSTAMP:20260422T191545Z
LAST-MODIFIED:20260127T142109Z
SUMMARY:Ledermøde i Hytten
DESCRIPTION:Ledermøde \n\n
URL:https://birkegruppen.dk/begivenhed/ledermoede-i-hytten-2
DTSTART:20261027T181500Z
DTEND:20261027T201500Z
LOCATION:Birkegruppen\, Karpevænget 5\, 3460 Birkerød
END:VEVENT
BEGIN:VEVENT
UID:gruppeweb.dk:1301:event:2526
DTSTAMP:20260422T191545Z
LAST-MODIFIED:20260127T142110Z
SUMMARY:Ledermøde i Hytten
DESCRIPTION:Vil samles til ledermøde\, vi kan bestille lidt mad hvis vi sy
 nes det er  \nnødvendigt\n\n\nEvaluering af SL2026\n\nEr der leder nok ud
 en i de enkelte grene\n\nGå med Gruppen - hvem kan hjælpe\n\nJulehyggem
 øde - hvem laver hvad\n\n\n
URL:https://birkegruppen.dk/begivenhed/ledermoede-i-hytten-3
DTSTART:20260816T131500Z
DTEND:20260816T151500Z
LOCATION:Birkegruppen\, Karpevænget 5\, 3460 Birkerød
END:VEVENT
BEGIN:VEVENT
UID:gruppeweb.dk:1301:event:2529
DTSTAMP:20260422T191545Z
LAST-MODIFIED:20260204T173035Z
SUMMARY:Laura låner hytten
DESCRIPTION:\n
URL:https://birkegruppen.dk/begivenhed/laura-laaner-hytten-1
DTSTART:20260321T110000Z
DTEND:20260321T170000Z
LOCATION:Birkehytten\, Karpevænget 5\, 3460 Birkerød
END:VEVENT
BEGIN:VEVENT
UID:gruppeweb.dk:1301:event:2530
DTSTAMP:20260422T191545Z
LAST-MODIFIED:20260204T173040Z
SUMMARY:Anders Christiansen låner hytten
DESCRIPTION:Arrangementet er søndag 22/3 kl. 12.30-15.30 (inklusiv\noprydn
 ing).\n\n\n
URL:https://birkegruppen.dk/begivenhed/anders-christiansen-laaner-hytten
DTSTART:20260322T113000Z
DTEND:20260322T143000Z
LOCATION:Birkegruppen\, Karpevænget 5\, 3460 Birkerød
END:VEVENT
BEGIN:VEVENT
UID:gruppeweb.dk:1301:event:2544
DTSTAMP:20260422T191545Z
LAST-MODIFIED:20260322T200951Z
SUMMARY:Ledermøde i Hytten
DESCRIPTION:Vi holder ledermøde i hytten\, uden mad\n\nDagsorden:\n\nSamv
 ærspolitik \n\nSL2026- sommerlejrmøde- indkøb\n\nBirkehytten 2\,0\n\ne
 r der mangel på leder\n\nevt:\n\n
URL:https://birkegruppen.dk/begivenhed/ledermoede-i-hytten-4
DTSTART:20260519T171500Z
DTEND:20260519T190000Z
LOCATION:Birkegruppen\, Karpevænget 5\, 3460 Birkerød
END:VEVENT
BEGIN:VEVENT
UID:gruppeweb.dk:1301:event:2545
DTSTAMP:20260422T191545Z
LAST-MODIFIED:20260322T203543Z
SUMMARY:Ledermøde i hytten
DESCRIPTION:Ledermøde i Hytten\, uden mad\n\n
URL:https://birkegruppen.dk/begivenhed/ledermoede-i-hytten-5
DTSTART:20261027T181500Z
DTEND:20261027T201500Z
LOCATION:Birkegruppen\, Karpevænget 5\, 3460 Birkerød
END:VEVENT
BEGIN:VEVENT
UID:gruppeweb.dk:1301:event:2546
DTSTAMP:20260422T191545Z
LAST-MODIFIED:20260411T192331Z
SUMMARY:Juniorleder LUS
DESCRIPTION:hvad kan vi som bestyrelse kan gøre for at hjælpe\, støtte o
 g udvikle  \nlederarbejdet i\nBirkegruppen.\nVi vil gerne høre om I har n
 ogle fede idéer\, noget der virkelig kunne\nvære sjovt at tage på kursu
 s i\, noget I som leder gerne vil udforske sammen\neller noget I mangler a
 f\, hænder\, hjælpere\, materialer\, viden\, udstyr\, ting  \nog\ndims. 
 Det kunne også være at der er noget helt femte\, som I ønsker af os.\n\
 n\n\n
URL:https://birkegruppen.dk/begivenhed/juniorleder-lus
DTSTART:20260427T173000Z
DTEND:20260427T183000Z
LOCATION:Birkegruppen\, Karpevænget 5\, 3460 Birkerød
END:VEVENT
BEGIN:VEVENT
UID:gruppeweb.dk:1301:event:2547
DTSTAMP:20260422T191545Z
LAST-MODIFIED:20260322T203547Z
SUMMARY:Familieleder LUS
DESCRIPTION:hvad kan vi som bestyrelse kan gøre for at hjælpe\, støtte o
 g udvikle  \nlederarbejdet i Birkegruppen.\nVi vil gerne høre om I har no
 gle fede idéer\, noget der virkelig kunne være  \nsjovt at tage på kurs
 us i\, noget I som leder gerne vil udforske sammen eller  \nnoget I mangle
 r af\, hænder\, hjælpere\, materialer\, viden\, udstyr\, ting og  \ndims
 . Det kunne også være at der er noget helt femte\, som I ønsker af os.\
 n\n
URL:https://birkegruppen.dk/begivenhed/familieleder-lus
DTSTART:20260516T090000Z
DTEND:20260516T100000Z
LOCATION:Birkegruppen\, Karpevænget 5\, 3460 Birkerød
END:VEVENT
BEGIN:VEVENT
UID:gruppeweb.dk:1301:event:2550
DTSTAMP:20260422T191545Z
LAST-MODIFIED:20260411T192333Z
SUMMARY:FAMIDI planlægnings møde
DESCRIPTION:Divisionsleder møde for FAMIDI\n\nDer er møde i hytten for de
  leder der skal med på FAMIDI\n\n
URL:https://birkegruppen.dk/begivenhed/famidi-planlaegnings-moede
DTSTART:20260415T163000Z
DTEND:20260415T183000Z
LOCATION:Birkegruppen\, Karpevænget 5\, 3460 Birkerød
END:VEVENT
BEGIN:VEVENT
UID:gruppeweb.dk:1301:event:2551
DTSTAMP:20260422T191545Z
LAST-MODIFIED:20260411T193644Z
SUMMARY:Birkehytten 2.0
DESCRIPTION:Vi får samlet på på hytte tegninger og hvad der er kommet af
  nyt\n\n
URL:https://birkegruppen.dk/begivenhed/birkehytten-20
DTSTART:20260415T173000Z
DTEND:20260415T193000Z
LOCATION:Birkegruppen\, Karpevænget 5\, 3460 Birkerød
END:VEVENT
END:VCALENDAR
